BEGIN:VCALENDAR
VERSION:2.0
PRODID:-//Miracle Place Church - ECPv6.15.17.1//NONSGML v1.0//EN
CALSCALE:GREGORIAN
METHOD:PUBLISH
X-WR-CALNAME:Miracle Place Church
X-ORIGINAL-URL:https://miracleplacechurch.org
X-WR-CALDESC:Events for Miracle Place Church
REFRESH-INTERVAL;VALUE=DURATION:PT1H
X-Robots-Tag:noindex
X-PUBLISHED-TTL:PT1H
BEGIN:VTIMEZONE
TZID:America/Chicago
BEGIN:DAYLIGHT
TZOFFSETFROM:-0600
TZOFFSETTO:-0500
TZNAME:CDT
DTSTART:20250309T080000
END:DAYLIGHT
BEGIN:STANDARD
TZOFFSETFROM:-0500
TZOFFSETTO:-0600
TZNAME:CST
DTSTART:20251102T070000
END:STANDARD
BEGIN:DAYLIGHT
TZOFFSETFROM:-0600
TZOFFSETTO:-0500
TZNAME:CDT
DTSTART:20260308T080000
END:DAYLIGHT
BEGIN:STANDARD
TZOFFSETFROM:-0500
TZOFFSETTO:-0600
TZNAME:CST
DTSTART:20261101T070000
END:STANDARD
BEGIN:DAYLIGHT
TZOFFSETFROM:-0600
TZOFFSETTO:-0500
TZNAME:CDT
DTSTART:20270314T080000
END:DAYLIGHT
BEGIN:STANDARD
TZOFFSETFROM:-0500
TZOFFSETTO:-0600
TZNAME:CST
DTSTART:20271107T070000
END:STANDARD
END:VTIMEZONE
BEGIN:VEVENT
DTSTART;TZID=America/Chicago:20260324T100000
DTEND;TZID=America/Chicago:20260324T110000
DTSTAMP:20260422T034119
CREATED:20251105T175553Z
LAST-MODIFIED:20260325T184241Z
UID:10001398-1774346400-1774350000@miracleplacechurch.org
SUMMARY:Uganda
DESCRIPTION:Uganda Radio
URL:https://miracleplacechurch.org/event/uganda/2026-03-24/
LOCATION:Miracle Place Church Baker\, LA
END:VEVENT
END:VCALENDAR