BEGIN:VCALENDAR
VERSION:2.0
PRODID:-//Miracle Place Church - ECPv6.15.17.1//NONSGML v1.0//EN
CALSCALE:GREGORIAN
METHOD:PUBLISH
X-WR-CALNAME:Miracle Place Church
X-ORIGINAL-URL:https://miracleplacechurch.org
X-WR-CALDESC:Events for Miracle Place Church
REFRESH-INTERVAL;VALUE=DURATION:PT1H
X-Robots-Tag:noindex
X-PUBLISHED-TTL:PT1H
BEGIN:VTIMEZONE
TZID:America/Chicago
BEGIN:DAYLIGHT
TZOFFSETFROM:-0600
TZOFFSETTO:-0500
TZNAME:CDT
DTSTART:20250309T080000
END:DAYLIGHT
BEGIN:STANDARD
TZOFFSETFROM:-0500
TZOFFSETTO:-0600
TZNAME:CST
DTSTART:20251102T070000
END:STANDARD
BEGIN:DAYLIGHT
TZOFFSETFROM:-0600
TZOFFSETTO:-0500
TZNAME:CDT
DTSTART:20260308T080000
END:DAYLIGHT
BEGIN:STANDARD
TZOFFSETFROM:-0500
TZOFFSETTO:-0600
TZNAME:CST
DTSTART:20261101T070000
END:STANDARD
BEGIN:DAYLIGHT
TZOFFSETFROM:-0600
TZOFFSETTO:-0500
TZNAME:CDT
DTSTART:20270314T080000
END:DAYLIGHT
BEGIN:STANDARD
TZOFFSETFROM:-0500
TZOFFSETTO:-0600
TZNAME:CST
DTSTART:20271107T070000
END:STANDARD
END:VTIMEZONE
BEGIN:VEVENT
DTSTART;TZID=America/Chicago:20260305T110000
DTEND;TZID=America/Chicago:20260305T120000
DTSTAMP:20260420T103806
CREATED:20251203T202930Z
LAST-MODIFIED:20260325T184208Z
UID:10001096-1772708400-1772712000@miracleplacechurch.org
SUMMARY:Uganda Radio
DESCRIPTION:Connect with us as we lift up the people of Africa in prayer\, seeking salvation and healing together. \nTues & Wed 9:00 AM \nThursdays 10:00 AM
URL:https://miracleplacechurch.org/event/uganda-radio/2026-03-05/
LOCATION:Miracle Place Church Baker\, LA
END:VEVENT
END:VCALENDAR