BEGIN:VCALENDAR
VERSION:2.0
PRODID:-//Miracle Place Church - ECPv6.15.17.1//NONSGML v1.0//EN
CALSCALE:GREGORIAN
METHOD:PUBLISH
X-WR-CALNAME:Miracle Place Church
X-ORIGINAL-URL:https://miracleplacechurch.org
X-WR-CALDESC:Events for Miracle Place Church
REFRESH-INTERVAL;VALUE=DURATION:PT1H
X-Robots-Tag:noindex
X-PUBLISHED-TTL:PT1H
BEGIN:VTIMEZONE
TZID:America/Chicago
BEGIN:DAYLIGHT
TZOFFSETFROM:-0600
TZOFFSETTO:-0500
TZNAME:CDT
DTSTART:20250309T080000
END:DAYLIGHT
BEGIN:STANDARD
TZOFFSETFROM:-0500
TZOFFSETTO:-0600
TZNAME:CST
DTSTART:20251102T070000
END:STANDARD
BEGIN:DAYLIGHT
TZOFFSETFROM:-0600
TZOFFSETTO:-0500
TZNAME:CDT
DTSTART:20260308T080000
END:DAYLIGHT
BEGIN:STANDARD
TZOFFSETFROM:-0500
TZOFFSETTO:-0600
TZNAME:CST
DTSTART:20261101T070000
END:STANDARD
BEGIN:DAYLIGHT
TZOFFSETFROM:-0600
TZOFFSETTO:-0500
TZNAME:CDT
DTSTART:20270314T080000
END:DAYLIGHT
BEGIN:STANDARD
TZOFFSETFROM:-0500
TZOFFSETTO:-0600
TZNAME:CST
DTSTART:20271107T070000
END:STANDARD
END:VTIMEZONE
BEGIN:VEVENT
DTSTART;TZID=America/Chicago:20260405T123000
DTEND;TZID=America/Chicago:20260405T133000
DTSTAMP:20260420T115751
CREATED:20260122T202724Z
LAST-MODIFIED:20260122T202724Z
UID:10395-1775392200-1775395800@miracleplacechurch.org
SUMMARY:Easter Bake Sale Fundraiser
DESCRIPTION:We will be selling sweet treats after service to raise funds for our youth group to go to camp. The cost of one child is $359. Come out and support the youth. If you would like to sponsor a child\, contact Pastor Zach or Lorna Sinclair.
URL:https://miracleplacechurch.org/event/easter-bake-sale-fundraiser/
LOCATION:Miracle Place Church Baker\, LA
END:VEVENT
END:VCALENDAR